BEGIN:VCALENDAR
VERSION:2.0
PRODID:-//CBI Berkshires Reform Jewish Synagogue - Congregation Beth Israel - ECPv6.15.17//NONSGML v1.0//EN
CALSCALE:GREGORIAN
METHOD:PUBLISH
X-ORIGINAL-URL:https://cbiberkshires.com
X-WR-CALDESC:Events for CBI Berkshires Reform Jewish Synagogue - Congregation Beth Israel
REFRESH-INTERVAL;VALUE=DURATION:PT1H
X-Robots-Tag:noindex
X-PUBLISHED-TTL:PT1H
BEGIN:VTIMEZONE
TZID:America/New_York
BEGIN:DAYLIGHT
TZOFFSETFROM:-0500
TZOFFSETTO:-0400
TZNAME:EDT
DTSTART:20230312T070000
END:DAYLIGHT
BEGIN:STANDARD
TZOFFSETFROM:-0400
TZOFFSETTO:-0500
TZNAME:EST
DTSTART:20231105T060000
END:STANDARD
BEGIN:DAYLIGHT
TZOFFSETFROM:-0500
TZOFFSETTO:-0400
TZNAME:EDT
DTSTART:20240310T070000
END:DAYLIGHT
BEGIN:STANDARD
TZOFFSETFROM:-0400
TZOFFSETTO:-0500
TZNAME:EST
DTSTART:20241103T060000
END:STANDARD
BEGIN:DAYLIGHT
TZOFFSETFROM:-0500
TZOFFSETTO:-0400
TZNAME:EDT
DTSTART:20250309T070000
END:DAYLIGHT
BEGIN:STANDARD
TZOFFSETFROM:-0400
TZOFFSETTO:-0500
TZNAME:EST
DTSTART:20251102T060000
END:STANDARD
BEGIN:DAYLIGHT
TZOFFSETFROM:-0500
TZOFFSETTO:-0400
TZNAME:EDT
DTSTART:20260308T070000
END:DAYLIGHT
BEGIN:STANDARD
TZOFFSETFROM:-0400
TZOFFSETTO:-0500
TZNAME:EST
DTSTART:20261101T060000
END:STANDARD
END:VTIMEZONE
BEGIN:VEVENT
DTSTART;TZID=America/New_York:20250920T100000
DTEND;TZID=America/New_York:20250920T123000
DTSTAMP:20260421T055134
CREATED:20250804T174357Z
LAST-MODIFIED:20250805T201131Z
UID:10000993-1758362400-1758371400@cbiberkshires.com
SUMMARY:Apple Cake & New Beginnings: A Rosh Hashanah Celebration at the Market
DESCRIPTION:Celebrate the sweetness of the Jewish New Year at the Bennington Community Market! We’ll bake delicious apple cake using freshly picked\, local apples. Then\, we’ll head outdoors to the farmer’s market to share the spirit of Rosh Hashanah with others — offering samples of our homemade apple cake and filling the air with joyful Rosh Hashanah and Shabbat melodies at the mic. All ages welcome — come ready to bake\, taste\, sing\, and celebrate a sweet start to the year! Please RSVP via our website if your family plans to attend; for more information\, please contact learning@cbiberkshires.com. \nThis event is a partnership between Congregation Beth Israel & Nefesh\, with major financial support from Sally Gottesman & the Harold Grinspoon Foundation as well as funding from other private donors.
URL:https://cbiberkshires.com/event/rh-baking-2025/
LOCATION:Bennington Community Market\, 239 Main Street\, Bennington\, VT\, 05201\, United States
CATEGORIES:Days of Awe,Family Event,Offsite
ATTACH;FMTTYPE=image/jpeg:https://cbiberkshires.com/wp-content/uploads/2022/08/Sweet-e1661534120603.jpg
ORGANIZER;CN="Congregation Beth Israel":MAILTO:office@cbiberkshires.com
END:VEVENT
BEGIN:VEVENT
DTSTART;TZID=America/New_York:20240915T100000
DTEND;TZID=America/New_York:20240915T100000
DTSTAMP:20260421T055134
CREATED:20240826T180745Z
LAST-MODIFIED:20240826T180746Z
UID:10000871-1726394400-1726394400@cbiberkshires.com
SUMMARY:Rosh Hashanah Baking
DESCRIPTION:Join us as we make apple cake and round challah to share with family and friends at the Bennington Community Market! For more information and to RSVP\, please contact learning@cbiberkshires.com. \nThis event is a partnership between Congregation Beth Israel & NEFESH\, with major financial support from Sally Gottesman & the Harold Grinspoon Foundation as well as funding from other private donors.
URL:https://cbiberkshires.com/event/rosh-hashanah-baking/
LOCATION:Bennington Community Market\, 239 Main Street\, Bennington\, VT\, 05201\, United States
CATEGORIES:Days of Awe,Family Event,Offsite
ATTACH;FMTTYPE=image/jpeg:https://cbiberkshires.com/wp-content/uploads/2024/08/Round-Challah.jpg
ORGANIZER;CN="Congregation Beth Israel":MAILTO:office@cbiberkshires.com
END:VEVENT
END:VCALENDAR