BEGIN:VCALENDAR
VERSION:2.0
PRODID:-//CBI Berkshires Reform Jewish Synagogue - Congregation Beth Israel - ECPv6.15.17//NONSGML v1.0//EN
CALSCALE:GREGORIAN
METHOD:PUBLISH
X-WR-CALNAME:CBI Berkshires Reform Jewish Synagogue - Congregation Beth Israel
X-ORIGINAL-URL:https://cbiberkshires.com
X-WR-CALDESC:Events for CBI Berkshires Reform Jewish Synagogue - Congregation Beth Israel
REFRESH-INTERVAL;VALUE=DURATION:PT1H
X-Robots-Tag:noindex
X-PUBLISHED-TTL:PT1H
BEGIN:VTIMEZONE
TZID:America/New_York
BEGIN:DAYLIGHT
TZOFFSETFROM:-0500
TZOFFSETTO:-0400
TZNAME:EDT
DTSTART:20250309T070000
END:DAYLIGHT
BEGIN:STANDARD
TZOFFSETFROM:-0400
TZOFFSETTO:-0500
TZNAME:EST
DTSTART:20251102T060000
END:STANDARD
BEGIN:DAYLIGHT
TZOFFSETFROM:-0500
TZOFFSETTO:-0400
TZNAME:EDT
DTSTART:20260308T070000
END:DAYLIGHT
BEGIN:STANDARD
TZOFFSETFROM:-0400
TZOFFSETTO:-0500
TZNAME:EST
DTSTART:20261101T060000
END:STANDARD
BEGIN:DAYLIGHT
TZOFFSETFROM:-0500
TZOFFSETTO:-0400
TZNAME:EDT
DTSTART:20270314T070000
END:DAYLIGHT
BEGIN:STANDARD
TZOFFSETFROM:-0400
TZOFFSETTO:-0500
TZNAME:EST
DTSTART:20271107T060000
END:STANDARD
END:VTIMEZONE
BEGIN:VEVENT
DTSTART;TZID=America/New_York:20260625T193000
DTEND;TZID=America/New_York:20260625T203000
DTSTAMP:20260423T141311
CREATED:20260217T182339Z
LAST-MODIFIED:20260407T175849Z
UID:10001086-1782415800-1782419400@cbiberkshires.com
SUMMARY:CBI Book Club
DESCRIPTION:Our next meeting of the CBI Book Club\, facilitated by Dr. Suzanne Levy Graver\, Professor Emerita at Williams College\, will meet over Zoom to discuss This is Not About Us by Allegra Goodman. \nGoodman’s newest novel is a kaleidoscopic portrait of a modern American family — steadfast\, complicated\, begrudging\, and loving — centering on the strained relationship between two sisters. When their beloved sister passes away\, Sylvia and Helen Rubinstein are unmoored\, with a simple misunderstanding causing a rift that spans generations. Jami Attenberg of the New York Times states that “the delicate minutiae of family life” is “played out beautifully\, boldly\, brightly…in this nimble\, heartfelt book.” \nAll are welcome! This book is available to purchase online in multiple formats. Those who plan on joining us should RSVP via our website; Zoom information will be sent to all who RSVP once the date gets closer.
URL:https://cbiberkshires.com/event/book-club-june-2026/
LOCATION:Virtual Event (Zoom)
CATEGORIES:Adult Programming,Online
ATTACH;FMTTYPE=image/png:https://cbiberkshires.com/wp-content/uploads/2026/02/This-is-Not-About-Us.png
ORGANIZER;CN="Congregation Beth Israel":MAILTO:office@cbiberkshires.com
END:VEVENT
END:VCALENDAR