BEGIN:VCALENDAR
VERSION:2.0
PRODID:-//CBI Berkshires Reform Jewish Synagogue - Congregation Beth Israel - ECPv6.15.17//NONSGML v1.0//EN
CALSCALE:GREGORIAN
METHOD:PUBLISH
X-WR-CALNAME:CBI Berkshires Reform Jewish Synagogue - Congregation Beth Israel
X-ORIGINAL-URL:https://cbiberkshires.com
X-WR-CALDESC:Events for CBI Berkshires Reform Jewish Synagogue - Congregation Beth Israel
REFRESH-INTERVAL;VALUE=DURATION:PT1H
X-Robots-Tag:noindex
X-PUBLISHED-TTL:PT1H
BEGIN:VTIMEZONE
TZID:America/New_York
BEGIN:DAYLIGHT
TZOFFSETFROM:-0500
TZOFFSETTO:-0400
TZNAME:EDT
DTSTART:20230312T070000
END:DAYLIGHT
BEGIN:STANDARD
TZOFFSETFROM:-0400
TZOFFSETTO:-0500
TZNAME:EST
DTSTART:20231105T060000
END:STANDARD
BEGIN:DAYLIGHT
TZOFFSETFROM:-0500
TZOFFSETTO:-0400
TZNAME:EDT
DTSTART:20240310T070000
END:DAYLIGHT
BEGIN:STANDARD
TZOFFSETFROM:-0400
TZOFFSETTO:-0500
TZNAME:EST
DTSTART:20241103T060000
END:STANDARD
BEGIN:DAYLIGHT
TZOFFSETFROM:-0500
TZOFFSETTO:-0400
TZNAME:EDT
DTSTART:20250309T070000
END:DAYLIGHT
BEGIN:STANDARD
TZOFFSETFROM:-0400
TZOFFSETTO:-0500
TZNAME:EST
DTSTART:20251102T060000
END:STANDARD
END:VTIMEZONE
BEGIN:VEVENT
DTSTART;TZID=America/New_York:20240929T140000
DTEND;TZID=America/New_York:20240929T143000
DTSTAMP:20260421T044332
CREATED:20240722T153049Z
LAST-MODIFIED:20240919T162939Z
UID:10000852-1727618400-1727620200@cbiberkshires.com
SUMMARY:Service of Remembrance at the Beth Israel Cemetery
DESCRIPTION:We invite you to our annual Service of Remembrance at the Beth Israel Cemetery (512 Walker Street in Clarksburg\, MA). Whether or not your loved ones are buried in this cemetery\, please join us for a short outdoor mincha (afternoon) service with opportunities for reflective prayer and memory. Please bring your own folding / camp chairs.
URL:https://cbiberkshires.com/event/service-of-remembrance-2024/
LOCATION:Beth Israel Cemetery\, 512 Walker Street\, Clarksburg\, MA\, 01247\, United States
CATEGORIES:Days of Awe,Offsite,Services
ATTACH;FMTTYPE=image/jpeg:https://cbiberkshires.com/wp-content/uploads/2024/07/CBI-Cemetery-Gate-e1726763371760.jpg
ORGANIZER;CN="Congregation Beth Israel":MAILTO:office@cbiberkshires.com
END:VEVENT
END:VCALENDAR