BEGIN:VCALENDAR
VERSION:2.0
PRODID:-//CBI Berkshires Reform Jewish Synagogue - Congregation Beth Israel - ECPv6.15.17//NONSGML v1.0//EN
CALSCALE:GREGORIAN
METHOD:PUBLISH
X-WR-CALNAME:CBI Berkshires Reform Jewish Synagogue - Congregation Beth Israel
X-ORIGINAL-URL:https://cbiberkshires.com
X-WR-CALDESC:Events for CBI Berkshires Reform Jewish Synagogue - Congregation Beth Israel
REFRESH-INTERVAL;VALUE=DURATION:PT1H
X-Robots-Tag:noindex
X-PUBLISHED-TTL:PT1H
BEGIN:VTIMEZONE
TZID:America/New_York
BEGIN:DAYLIGHT
TZOFFSETFROM:-0500
TZOFFSETTO:-0400
TZNAME:EDT
DTSTART:20250309T070000
END:DAYLIGHT
BEGIN:STANDARD
TZOFFSETFROM:-0400
TZOFFSETTO:-0500
TZNAME:EST
DTSTART:20251102T060000
END:STANDARD
BEGIN:DAYLIGHT
TZOFFSETFROM:-0500
TZOFFSETTO:-0400
TZNAME:EDT
DTSTART:20260308T070000
END:DAYLIGHT
BEGIN:STANDARD
TZOFFSETFROM:-0400
TZOFFSETTO:-0500
TZNAME:EST
DTSTART:20261101T060000
END:STANDARD
BEGIN:DAYLIGHT
TZOFFSETFROM:-0500
TZOFFSETTO:-0400
TZNAME:EDT
DTSTART:20270314T070000
END:DAYLIGHT
BEGIN:STANDARD
TZOFFSETFROM:-0400
TZOFFSETTO:-0500
TZNAME:EST
DTSTART:20271107T060000
END:STANDARD
END:VTIMEZONE
BEGIN:VEVENT
DTSTART;TZID=America/New_York:20260319T193000
DTEND;TZID=America/New_York:20260319T193000
DTSTAMP:20260423T084116
CREATED:20251210T160917Z
LAST-MODIFIED:20260108T192708Z
UID:10001056-1773948600-1773948600@cbiberkshires.com
SUMMARY:CBI Book Club with Author Barbara Viniar
DESCRIPTION:☆ To join us ONLINE\, please CLICK HERE to register via Zoom \n\nOur next meeting of the CBI Book Club\, facilitated by Dr. Suzanne Levy Graver\, Professor Emerita at Williams College\, will take place over Zoom on Thursday\, March 19 at 7:30pm (EDT). \nJoin us for a discussion with Barbara Viniar\, Berkshire resident and author of Little Bird\, the story of a girl who finds the courage to forge her own path to womanhood. \nIn 1910\, fearing escalating violence against Jews in Russia\, Feige’s father arranges for his daughter – Barbara’s grandmother – to marry a wealthy cousin in NYC. As she adapts to life in America\, Feige goes from being an obedient daughter to a dutiful wife\, even allowing her new husband to change her name to Fannie. Longing to make her own decisions\, her husband’s cruelty finally pushes her to risk leaving him. She parlays her embroidery skills into a job and finds the man she believes is the love of her life. When he betrays her\, she refuses to forgive him\, disregarding advice to overlook men’s lapses. Finally\, she meets a man who both loves and respects her. Can she give up her hard-won independence? \nThe novel is available to purchase online in multiple formats. \nThis online event is free and open to the public. All are welcome to join the author online via Zoom.
URL:https://cbiberkshires.com/event/little-bird/
LOCATION:Virtual Event (Zoom)
CATEGORIES:Adult Programming,Guest Speakers,Online
ATTACH;FMTTYPE=image/png:https://cbiberkshires.com/wp-content/uploads/2025/12/Little-Bird-with-Barbara-Viniar.png
ORGANIZER;CN="Congregation Beth Israel":MAILTO:office@cbiberkshires.com
END:VEVENT
END:VCALENDAR