BEGIN:VCALENDAR
VERSION:2.0
PRODID:-//CBI Berkshires Reform Jewish Synagogue - Congregation Beth Israel - ECPv6.15.17//NONSGML v1.0//EN
CALSCALE:GREGORIAN
METHOD:PUBLISH
X-WR-CALNAME:CBI Berkshires Reform Jewish Synagogue - Congregation Beth Israel
X-ORIGINAL-URL:https://cbiberkshires.com
X-WR-CALDESC:Events for CBI Berkshires Reform Jewish Synagogue - Congregation Beth Israel
REFRESH-INTERVAL;VALUE=DURATION:PT1H
X-Robots-Tag:noindex
X-PUBLISHED-TTL:PT1H
BEGIN:VTIMEZONE
TZID:America/New_York
BEGIN:DAYLIGHT
TZOFFSETFROM:-0500
TZOFFSETTO:-0400
TZNAME:EDT
DTSTART:20250309T070000
END:DAYLIGHT
BEGIN:STANDARD
TZOFFSETFROM:-0400
TZOFFSETTO:-0500
TZNAME:EST
DTSTART:20251102T060000
END:STANDARD
BEGIN:DAYLIGHT
TZOFFSETFROM:-0500
TZOFFSETTO:-0400
TZNAME:EDT
DTSTART:20260308T070000
END:DAYLIGHT
BEGIN:STANDARD
TZOFFSETFROM:-0400
TZOFFSETTO:-0500
TZNAME:EST
DTSTART:20261101T060000
END:STANDARD
BEGIN:DAYLIGHT
TZOFFSETFROM:-0500
TZOFFSETTO:-0400
TZNAME:EDT
DTSTART:20270314T070000
END:DAYLIGHT
BEGIN:STANDARD
TZOFFSETFROM:-0400
TZOFFSETTO:-0500
TZNAME:EST
DTSTART:20271107T060000
END:STANDARD
END:VTIMEZONE
BEGIN:VEVENT
DTSTART;TZID=America/New_York:20260228T100000
DTEND;TZID=America/New_York:20260228T100000
DTSTAMP:20260421T095945
CREATED:20251113T212758Z
LAST-MODIFIED:20260129T193549Z
UID:10001050-1772272800-1772272800@cbiberkshires.com
SUMMARY:Bake & Deliver Hamantaschen
DESCRIPTION:Bring Purim joy to homebound seniors and community members by baking fresh Hamantaschen and delivering misloach manot packages! This event will be held in Bennington\, VT; location details will be emailed to those who sign up once the date approaches. \nPlease RSVP if your family plans to attend; for more information\, please contact learning@cbiberkshires.com. \nThis event is a partnership between Congregation Beth Israel & Nefesh\, with major financial support from Sally Gottesman & the Harold Grinspoon Foundation as well as funding from other private donors.
URL:https://cbiberkshires.com/event/hamantaschen-2026/
CATEGORIES:Family Event,Holiday Programming,Offsite
ATTACH;FMTTYPE=image/jpeg:https://cbiberkshires.com/wp-content/uploads/2022/02/Hamentaschen-URJ-e1676650203247.jpg
ORGANIZER;CN="Congregation Beth Israel":MAILTO:office@cbiberkshires.com
END:VEVENT
BEGIN:VEVENT
DTSTART;TZID=America/New_York:20260228T100000
DTEND;TZID=America/New_York:20260228T113000
DTSTAMP:20260421T095945
CREATED:20251113T210327Z
LAST-MODIFIED:20260213T184253Z
UID:10001038-1772272800-1772278200@cbiberkshires.com
SUMMARY:Soul Spa | Zoom Torah Study
DESCRIPTION:Join us for our new Shabbat morning Zoom Torah study every Saturday! Jointly led by Rabbi Rachel Barenblat (CBI) and by Rabbi David Markus (Congregation Shir Ami)\, we’ll be exploring the weekly parsha through the lens of women’s commentaries and midrash. If anyone is observing a yahrzeit and needs to say kaddish\, we’ll close with Mourner’s Kaddish. \n☆ Please click here to join us online in Shir Ami’s Zoom room; all sessions will also be archived on Shir Ami’s website.
URL:https://cbiberkshires.com/event/ts/2026-02-28/
LOCATION:Virtual Event (Zoom)
CATEGORIES:Online,Services
ATTACH;FMTTYPE=image/png:https://cbiberkshires.com/wp-content/uploads/2025/08/Soul-Spa-Banner.png
ORGANIZER;CN="Congregation Beth Israel":MAILTO:office@cbiberkshires.com
END:VEVENT
END:VCALENDAR