BEGIN:VCALENDAR
VERSION:2.0
PRODID:-//CBI Berkshires Reform Jewish Synagogue - Congregation Beth Israel - ECPv6.15.17//NONSGML v1.0//EN
CALSCALE:GREGORIAN
METHOD:PUBLISH
X-ORIGINAL-URL:https://cbiberkshires.com
X-WR-CALDESC:Events for CBI Berkshires Reform Jewish Synagogue - Congregation Beth Israel
REFRESH-INTERVAL;VALUE=DURATION:PT1H
X-Robots-Tag:noindex
X-PUBLISHED-TTL:PT1H
BEGIN:VTIMEZONE
TZID:America/New_York
BEGIN:DAYLIGHT
TZOFFSETFROM:-0500
TZOFFSETTO:-0400
TZNAME:EDT
DTSTART:20250309T070000
END:DAYLIGHT
BEGIN:STANDARD
TZOFFSETFROM:-0400
TZOFFSETTO:-0500
TZNAME:EST
DTSTART:20251102T060000
END:STANDARD
BEGIN:DAYLIGHT
TZOFFSETFROM:-0500
TZOFFSETTO:-0400
TZNAME:EDT
DTSTART:20260308T070000
END:DAYLIGHT
BEGIN:STANDARD
TZOFFSETFROM:-0400
TZOFFSETTO:-0500
TZNAME:EST
DTSTART:20261101T060000
END:STANDARD
BEGIN:DAYLIGHT
TZOFFSETFROM:-0500
TZOFFSETTO:-0400
TZNAME:EDT
DTSTART:20270314T070000
END:DAYLIGHT
BEGIN:STANDARD
TZOFFSETFROM:-0400
TZOFFSETTO:-0500
TZNAME:EST
DTSTART:20271107T060000
END:STANDARD
END:VTIMEZONE
BEGIN:VEVENT
DTSTART;TZID=America/New_York:20260213T190000
DTEND;TZID=America/New_York:20260213T200000
DTSTAMP:20260421T152657
CREATED:20260108T210500Z
LAST-MODIFIED:20260212T210806Z
UID:10001063-1771009200-1771012800@cbiberkshires.com
SUMMARY:CANCELLED | Kabbalat Shabbat Service
DESCRIPTION:Please note that this week’s Kabbalat Shabbat Service has been cancelled due to illness. We sincerely apologize for any inconvenience this change may have caused — thank you for understanding! \nThose who still wish to write a personalized postcard to the U.S. Secretary of Agriculture about the importance of SNAP benefits as part of MAZON‘s National Hunger Shabbat may do so digitally by filling out their Google Form. \nFor more information about ways to combat food insecurity locally by donating and volunteering\, please visit the websites for the Al Nelson Friendship Center Food Pantry and the Berkshire Food Project.
URL:https://cbiberkshires.com/event/ks-2026-02-13/
CATEGORIES:Announcements,Services
ATTACH;FMTTYPE=image/png:https://cbiberkshires.com/wp-content/uploads/2022/08/No-Shabbat-Service-This-Weekend.png
ORGANIZER;CN="Congregation Beth Israel":MAILTO:office@cbiberkshires.com
END:VEVENT
END:VCALENDAR