BEGIN:VCALENDAR
VERSION:2.0
PRODID:-//CBI Berkshires Reform Jewish Synagogue - Congregation Beth Israel - ECPv6.15.17//NONSGML v1.0//EN
CALSCALE:GREGORIAN
METHOD:PUBLISH
X-ORIGINAL-URL:https://cbiberkshires.com
X-WR-CALDESC:Events for CBI Berkshires Reform Jewish Synagogue - Congregation Beth Israel
REFRESH-INTERVAL;VALUE=DURATION:PT1H
X-Robots-Tag:noindex
X-PUBLISHED-TTL:PT1H
BEGIN:VTIMEZONE
TZID:America/New_York
BEGIN:DAYLIGHT
TZOFFSETFROM:-0500
TZOFFSETTO:-0400
TZNAME:EDT
DTSTART:20250309T070000
END:DAYLIGHT
BEGIN:STANDARD
TZOFFSETFROM:-0400
TZOFFSETTO:-0500
TZNAME:EST
DTSTART:20251102T060000
END:STANDARD
BEGIN:DAYLIGHT
TZOFFSETFROM:-0500
TZOFFSETTO:-0400
TZNAME:EDT
DTSTART:20260308T070000
END:DAYLIGHT
BEGIN:STANDARD
TZOFFSETFROM:-0400
TZOFFSETTO:-0500
TZNAME:EST
DTSTART:20261101T060000
END:STANDARD
BEGIN:DAYLIGHT
TZOFFSETFROM:-0500
TZOFFSETTO:-0400
TZNAME:EDT
DTSTART:20270314T070000
END:DAYLIGHT
BEGIN:STANDARD
TZOFFSETFROM:-0400
TZOFFSETTO:-0500
TZNAME:EST
DTSTART:20271107T060000
END:STANDARD
END:VTIMEZONE
BEGIN:VEVENT
DTSTART;TZID=America/New_York:20260202T193000
DTEND;TZID=America/New_York:20260202T193000
DTSTAMP:20260421T152541
CREATED:20251121T212845Z
LAST-MODIFIED:20260128T205543Z
UID:10001052-1770060600-1770060600@cbiberkshires.com
SUMMARY:NEW DATE! | Wine & Cheese Tu BiShvat Seder (Registration Deadline: 1/23)
DESCRIPTION:Please note that the registration deadline for this event has passed. If you have not yet registered but would like to attend\, or if you have already registered but are no longer able to attend\, please email the office as soon as possible. Thank you for understanding! \nJoin Rabbi Rachel and the CBI community for a special wine-and-cheese tasting aligned with the four seasons\, the Four Worlds of Jewish mysticism\, and the journey through the spiritual year that is central to Tu BiShvat\, the New Year of the Trees! We’ll bless and taste four wines (or juices) and cheeses alongside the customary tree fruits and nuts as we celebrate the sap rising outside and the spiritual energies of spring’s renewal rising within us. \n$18 admission fee covers wines / juice\, cheeses\, tree fruits\, and an immersive seder experience to delight both the taste buds and the soul. \n☆ This event is designed for adults — kids will have their own Tu BiShvat celebration during Jewish Journeys.
URL:https://cbiberkshires.com/event/tbs-2026/
LOCATION:Congregation Beth Israel\, 53 Lois Street\, North Adams\, MA\, 01247\, United States
CATEGORIES:Adult Programming,Holiday Programming,Onsite,Paid Tickets Required,Services
ATTACH;FMTTYPE=image/png:https://cbiberkshires.com/wp-content/uploads/2025/11/TBS-Wine-Cheese.png
ORGANIZER;CN="Congregation Beth Israel":MAILTO:office@cbiberkshires.com
END:VEVENT
END:VCALENDAR